BEGIN:VCALENDAR
VERSION:2.0
PRODID:spatie/icalendar-generator
DESCRIPTION:Events from Klone Creations
X-WR-CALDESC:Events from Klone Creations
REFRESH-INTERVAL;VALUE=DURATION:PT1440M
X-PUBLISHED-TTL:PT1440M
BEGIN:VTIMEZONE
TZID:America/Vancouver
BEGIN:STANDARD
DTSTART:20251102T020000Z
TZOFFSETFROM:-0700
TZOFFSETTO:-0800
END:STANDARD
BEGIN:DAYLIGHT
DTSTART:20260308T020000Z
TZOFFSETFROM:-0800
TZOFFSETTO:-0700
END:DAYLIGHT
BEGIN:STANDARD
DTSTART:20261101T020000Z
TZOFFSETFROM:-0700
TZOFFSETTO:-0800
END:STANDARD
END:VTIMEZONE
BEGIN:VTIMEZONE
TZID:UTC
BEGIN:STANDARD
DTSTART:20250729T163835Z
TZOFFSETFROM:+0000
TZOFFSETTO:+0000
END:STANDARD
END:VTIMEZONE
BEGIN:VEVENT
UID:68-76
DTSTAMP:20260425T163835Z
SUMMARY:CANADA Day @ Ship Point
LOCATION:Ship Point Wharf street  Victoria British Columbia V8W 1T3
ORGANIZER;CN=Ivan Dann:MAILTO:ivan.dann@gmail.com
DTSTART;TZID=America/Vancouver:20260701T100000
DTEND;TZID=America/Vancouver:20260701T220000
X-ALT-DESC;FMTTYPE=TEXT/HTML:<p>Celebrate Canada Day with Klone Creations a
 t Ship Point\, Victoria\, BC on July 1st from 10 AM to 10 PM! Explore our 
 3D-printed art\, souvenirs\, and creatures — plus exclusive surprises an
 d a chance to win a giant crystal dragon. 🇨🇦✨</p>\n
CATEGORIES:General
URL;VALUE=URI:https://klonecreations.ca/mc-events/canada-day-ship-point-2/
METHOD:PUBLISH
END:VEVENT
END:VCALENDAR